BEGIN:VCALENDAR
VERSION:2.0
PRODID:-//eventon.com NONSGML v1.0//EN
BEGIN:VEVENT
UID:69e90a712dd4e
DTSTAMP:20260422T195041
DTSTART:20240426T180000Z
DTEND:20240426T215000Z
LOCATION:
SUMMARY:CENA A FAVORE DEL PROGETTO NASCERE CON CHIARA
DESCRIPTION: CENA A FAVORE DEL PROGETTO NASCERE CON CHIARA
END:VEVENT
END:VCALENDAR