BEGIN:VCALENDAR
VERSION:2.0
PRODID:-//eventon.com NONSGML v1.0//EN
BEGIN:VEVENT
UID:69e9225f4615c
DTSTAMP:20260422T213247
DTSTART:20240423T140000Z
DTEND:20240423T215000Z
LOCATION:
SUMMARY:LE SFIDE DI UN OSPEDALE IN UN PAESE A RISORSE LIMITATE
DESCRIPTION: Racconto dell’esperienza sul campo
END:VEVENT
END:VCALENDAR