BEGIN:VCALENDAR
VERSION:2.0
PRODID:-//eventon.com NONSGML v1.0//EN
BEGIN:VEVENT
UID:69e93d5e99855
DTSTAMP:20260422T232758
DTSTART:20240422T184500Z
DTEND:20240422T215000Z
LOCATION:
SUMMARY:A CASA MIA
DESCRIPTION: A CASA MIA
END:VEVENT
END:VCALENDAR