BEGIN:VCALENDAR
VERSION:2.0
PRODID:-//eventon.com NONSGML v1.0//EN
BEGIN:VEVENT
UID:69e957d29e7f9
DTSTAMP:20260423T012050
DTSTART:20240419T160000Z
DTEND:20240419T215000Z
LOCATION:
SUMMARY:VOCI DI PACE\,  SCENARI DI GUERRA. | SCONFINAmenti Festival
DESCRIPTION: VOCI DI PACE\,  SCENARI DI GUERRA. | SCONFINAmenti Festival
END:VEVENT
END:VCALENDAR