BEGIN:VCALENDAR
VERSION:2.0
PRODID:-//eventon.com NONSGML v1.0//EN
BEGIN:VEVENT
UID:69e970462fb07
DTSTAMP:20260423T030510
DTSTART:20240419T180000Z
DTEND:20240419T215000Z
LOCATION:
SUMMARY:RACCONTI PONTE DI STORIE TRA ITALIA E AFRICA
DESCRIPTION: RACCONTI PONTE DI STORIE TRA ITALIA E AFRICA
END:VEVENT
END:VCALENDAR