BEGIN:VCALENDAR
VERSION:2.0
PRODID:-//eventon.com NONSGML v1.0//EN
BEGIN:VEVENT
UID:69e98b876e811
DTSTAMP:20260423T050127
DTSTART:20240413T160000Z
DTEND:20240413T220000Z
LOCATION:
SUMMARY:GIORNATA DEL RISO
DESCRIPTION: GIORNATA DEL RISO
END:VEVENT
END:VCALENDAR