BEGIN:VCALENDAR
VERSION:2.0
PRODID:-//eventon.com NONSGML v1.0//EN
BEGIN:VEVENT
UID:69e9b5f91cf2e
DTSTAMP:20260423T080233
DTSTART:20240413T220000Z
DTEND:20240421T215900Z
LOCATION:
SUMMARY:MOSTRA "Il momento migliore"
DESCRIPTION: MOSTRA "Il momento migliore"
END:VEVENT
END:VCALENDAR