BEGIN:VCALENDAR
VERSION:2.0
PRODID:-//eventon.com NONSGML v1.0//EN
BEGIN:VEVENT
UID:69e9c0452ef7e
DTSTAMP:20260423T084629
DTSTART:20240413T160000Z
DTEND:20240413T215000Z
LOCATION:
SUMMARY:CONCERTO SOLIDALE DESAMISTADE
DESCRIPTION: CONCERTO SOLIDALE DESAMISTADE
END:VEVENT
END:VCALENDAR