BEGIN:VCALENDAR
VERSION:2.0
PRODID:-//eventon.com NONSGML v1.0//EN
BEGIN:VEVENT
UID:69e9d9526d9a1
DTSTAMP:20260423T103322
DTSTART:20240417T163000Z
DTEND:20240417T215000Z
LOCATION:
SUMMARY:GIOVANI CON L'AFRICA
DESCRIPTION: GIOVANI CON L'AFRICA
END:VEVENT
END:VCALENDAR