BEGIN:VCALENDAR
VERSION:2.0
PRODID:-//eventon.com NONSGML v1.0//EN
BEGIN:VEVENT
UID:69ec387e92b13
DTSTAMP:20260425T054358
DTSTART:20230513T123000Z
DTEND:20230513T215000Z
LOCATION:
SUMMARY:Lotteria Cuamm
DESCRIPTION: Lotteria Cuamm
END:VEVENT
END:VCALENDAR