BEGIN:VCALENDAR
VERSION:2.0
PRODID:-//eventon.com NONSGML v1.0//EN
BEGIN:VEVENT
UID:69ec1d082ecf8
DTSTAMP:20260425T034648
DTSTART:20230527T184500Z
DTEND:20230527T215000Z
LOCATION:
SUMMARY:Spettacolo “Disi sempre che la xe cota”
DESCRIPTION: Spettacolo “Disi sempre che la xe cota”
END:VEVENT
END:VCALENDAR