BEGIN:VCALENDAR
VERSION:2.0
PRODID:-//eventon.com NONSGML v1.0//EN
BEGIN:VEVENT
UID:69ec046dd9f99
DTSTAMP:20260425T020149
DTSTART:20230527T083000Z
DTEND:20230527T215000Z
LOCATION:
SUMMARY:Storie d'impegno nell'ultimo miglio
DESCRIPTION: Storie d'impegno nell'ultimo miglio
END:VEVENT
END:VCALENDAR