BEGIN:VCALENDAR
VERSION:2.0
PRODID:-//eventon.com NONSGML v1.0//EN
BEGIN:VEVENT
UID:69ebebc752b36
DTSTAMP:20260425T001639
DTSTART:20230513T180000Z
DTEND:20230513T215000Z
LOCATION:
SUMMARY:Cantiamo la Pace
DESCRIPTION: Cantiamo la Pace
END:VEVENT
END:VCALENDAR