BEGIN:VCALENDAR
VERSION:2.0
PRODID:-//eventon.com NONSGML v1.0//EN
BEGIN:VEVENT
UID:69ebd46a1d021
DTSTAMP:20260424T223658
DTSTART:20230507T080000Z
DTEND:20230507T215000Z
LOCATION:
SUMMARY:1a Fiera - Valsugana Sostenibile&Solidale
DESCRIPTION: 1a Fiera - Valsugana Sostenibile&Solidale
END:VEVENT
END:VCALENDAR