BEGIN:VCALENDAR
VERSION:2.0
PRODID:-//eventon.com NONSGML v1.0//EN
BEGIN:VEVENT
UID:69ebbc2e09faf
DTSTAMP:20260424T205334
DTSTART:20230519T173000Z
DTEND:20230519T215000Z
LOCATION:
SUMMARY:Un sorriso con l'Africa - Risottata benefica
DESCRIPTION: Un sorriso con l'Africa - Risottata benefica
END:VEVENT
END:VCALENDAR