BEGIN:VCALENDAR
VERSION:2.0
PRODID:-//eventon.com NONSGML v1.0//EN
BEGIN:VEVENT
UID:69ebbc5fceb71
DTSTAMP:20260424T205423
DTSTART:20230511T183000Z
DTEND:20230511T215000Z
LOCATION:
SUMMARY:Migrazioni: L'altro punto di vista
DESCRIPTION: Migrazioni: L'altro punto di vista
END:VEVENT
END:VCALENDAR