BEGIN:VCALENDAR
VERSION:2.0
PRODID:-//eventon.com NONSGML v1.0//EN
BEGIN:VEVENT
UID:69eb8e79c5861
DTSTAMP:20260424T173833
DTSTART:20230511T184500Z
DTEND:20230511T215000Z
LOCATION:
SUMMARY:Quello che non si vede - Tosamaganga
DESCRIPTION: Il gruppo di volontari di Pisa organizza un incontro per approfondire i progetti e le attività di Medici con l'Africa Cuamm nella regione di Tosamaganga\,  in Tanzania. Insieme a Don Dante Carraro\,  racconteranno le loro esperienze anche le dottoresse Claudia Mininni e Sara Biagioni. Modera l'incontro Maurizio Trocchi della Libreria[..]
END:VEVENT
END:VCALENDAR