BEGIN:VCALENDAR
VERSION:2.0
PRODID:-//eventon.com NONSGML v1.0//EN
BEGIN:VEVENT
UID:69eb54168bb58
DTSTAMP:20260424T132926
DTSTART:20230506T073000Z
DTEND:20230506T215000Z
LOCATION:
SUMMARY:“Prendersi cura di chi cura”: L'esperienza di FIT4CARE al servizio dei volontari e del personale sanitario di Milano
DESCRIPTION: In occasione della Civili Week 2023 di Milano\,  Medici con l'Africa Cuamm organizza l’incontro “Prendersi cura di chi cura: L'esperienza di FIT4CARE al servizio dei volontari e del personale sanitario di Milano”. L’incontro è completamente gratuito e aperto al pubblico\,  previa iscrizione.: https://forms.gle/kQLHo7gwFpTbcjnQ9 Sito: https://civilweek-vivere.it/eventi/prendersi-cura-di-chi-cura/
END:VEVENT
END:VCALENDAR