BEGIN:VCALENDAR
VERSION:2.0
PRODID:-//eventon.com NONSGML v1.0//EN
BEGIN:VEVENT
UID:69eb4f8fce19f
DTSTAMP:20260424T131007
DTSTART:20230509T190000Z
DTEND:20230509T215000Z
LOCATION:
SUMMARY:Quello che possiamo imparare in Africa. La salute come bene comune.
DESCRIPTION: Quello che possiamo imparare in Africa. La salute come bene comune.
END:VEVENT
END:VCALENDAR