BEGIN:VCALENDAR
VERSION:2.0
PRODID:-//eventon.com NONSGML v1.0//EN
BEGIN:VEVENT
UID:69eb709d542a4
DTSTAMP:20260424T153109
DTSTART:20230504T190000Z
DTEND:20230504T215000Z
LOCATION:
SUMMARY:Quello che non si vede. L'esperienza dei Junior Project Officer (JPO)
DESCRIPTION: Quello che non si vede. L'esperienza dei Junior Project Officer (JPO)
END:VEVENT
END:VCALENDAR