BEGIN:VCALENDAR
VERSION:2.0
PRODID:-//eventon.com NONSGML v1.0//EN
BEGIN:VEVENT
UID:69eb1be40f674
DTSTAMP:20260424T092940
DTSTART:20230521T184500Z
DTEND:20230521T215000Z
LOCATION:Teatro Toniolo Piazzetta Cesare Battisti\,  1
SUMMARY:Vent'anni in Accordo A long walk\,  ONE singing soul
DESCRIPTION: Vent'anni in Accordo A long walk\,  ONE singing soul
END:VEVENT
END:VCALENDAR