BEGIN:VCALENDAR
VERSION:2.0
PRODID:-//eventon.com NONSGML v1.0//EN
BEGIN:VEVENT
UID:69eb0070e16b2
DTSTAMP:20260424T073232
DTSTART:20230506T090000Z
DTEND:20230506T215000Z
LOCATION:Villa Draghi Via Enrico Fermi
SUMMARY:Late Birthday Party
DESCRIPTION: Late Birthday Party
END:VEVENT
END:VCALENDAR