BEGIN:VCALENDAR
VERSION:2.0
PRODID:-//eventon.com NONSGML v1.0//EN
BEGIN:VEVENT
UID:69eb05b4a4aa1
DTSTAMP:20260424T075500
DTSTART:20230503T180000Z
DTEND:20230503T215000Z
LOCATION:Trieste Convention Center viale Miramare 24/2
SUMMARY:A cena con il Cuamm
DESCRIPTION: A cena con il Cuamm
END:VEVENT
END:VCALENDAR