BEGIN:VCALENDAR
VERSION:2.0
PRODID:-//eventon.com NONSGML v1.0//EN
BEGIN:VEVENT
UID:69ead30849d7c
DTSTAMP:20260424T041848
DTSTART:20230506T150000Z
DTEND:20230506T215000Z
LOCATION:
SUMMARY:Un sabato con il Cuamm
DESCRIPTION: Un sabato con il Cuamm
END:VEVENT
END:VCALENDAR