BEGIN:VCALENDAR
VERSION:2.0
PRODID:-//eventon.com NONSGML v1.0//EN
BEGIN:VEVENT
UID:69eabc5132f24
DTSTAMP:20260424T024153
DTSTART:20230426T170000Z
DTEND:20230426T215000Z
LOCATION:
SUMMARY:Storie d’impegno con l’Africa
DESCRIPTION: Storie d’impegno con l’Africa
END:VEVENT
END:VCALENDAR