BEGIN:VCALENDAR
VERSION:2.0
PRODID:-//eventon.com NONSGML v1.0//EN
BEGIN:VEVENT
UID:69eaa4dd3fca6
DTSTAMP:20260424T010149
DTSTART:20230415T160000Z
DTEND:20230415T215000Z
LOCATION:
SUMMARY:Generazioni di Servizio L'altra parte della Genesi\,  le donne
DESCRIPTION: Generazioni di Servizio L'altra parte della Genesi\,  le donne
END:VEVENT
END:VCALENDAR