BEGIN:VCALENDAR
VERSION:2.0
PRODID:-//eventon.com NONSGML v1.0//EN
BEGIN:VEVENT
UID:69ea8c141155e
DTSTAMP:20260423T231604
DTSTART:20230428T163000Z
DTEND:20230428T215000Z
LOCATION:
SUMMARY:Nascere con Chiara
DESCRIPTION: Nascere con Chiara
END:VEVENT
END:VCALENDAR