BEGIN:VCALENDAR
VERSION:2.0
PRODID:-//eventon.com NONSGML v1.0//EN
BEGIN:VEVENT
UID:69ea73b217709
DTSTAMP:20260423T213202
DTSTART:20230416T130000Z
DTEND:20230416T160000Z
LOCATION:
SUMMARY:Un thè per te
DESCRIPTION: Un thè per te
END:VEVENT
END:VCALENDAR