BEGIN:VCALENDAR
VERSION:2.0
PRODID:-//eventon.com NONSGML v1.0//EN
BEGIN:VEVENT
UID:69ea5ef742853
DTSTAMP:20260423T200335
DTSTART:20230410T160000Z
DTEND:20230410T215000Z
LOCATION:
SUMMARY:Pasquetta di solidarietà
DESCRIPTION: Pasquetta di solidarietà
END:VEVENT
END:VCALENDAR