BEGIN:VCALENDAR
VERSION:2.0
PRODID:-//eventon.com NONSGML v1.0//EN
BEGIN:VEVENT
UID:69ea4730bf892
DTSTAMP:20260423T182208
DTSTART:20230509T183000Z
DTEND:20230509T215000Z
LOCATION:
SUMMARY:Recital Pianistico: Gabriele Strata Con Medici con l'Africa
DESCRIPTION: Recital Pianistico: Gabriele Strata Con Medici con l'Africa
END:VEVENT
END:VCALENDAR