BEGIN:VCALENDAR
VERSION:2.0
PRODID:-//eventon.com NONSGML v1.0//EN
BEGIN:VEVENT
UID:69ea471ff1102
DTSTAMP:20260423T182151
DTSTART:20230415T150000Z
DTEND:20230415T215000Z
LOCATION:
SUMMARY:Palladian Bacaro Tour
DESCRIPTION: Palladian Bacaro Tour
END:VEVENT
END:VCALENDAR