BEGIN:VCALENDAR
VERSION:2.0
PRODID:-//eventon.com NONSGML v1.0//EN
BEGIN:VEVENT
UID:69ea160abb0ca
DTSTAMP:20260423T145226
DTSTART:20230416T073000Z
DTEND:20230416T215000Z
LOCATION:
SUMMARY:Missio Meeting Giovani
DESCRIPTION: Missio Meeting Giovani è un evento rivolto a tutti i giovani dai 16 ai 35 anni! Giovani in ricerca\,  che desiderano essere in uscita per incontrare l’altro\,  con lo sguardo rivolto verso un orizzonte senza muri\,  che sognano un mondo più umano\,  che osano per la pace e la giustizia[..]
END:VEVENT
END:VCALENDAR