BEGIN:VCALENDAR
VERSION:2.0
PRODID:-//eventon.com NONSGML v1.0//EN
BEGIN:VEVENT
UID:69e9fcce88f95
DTSTAMP:20260423T130446
DTSTART:20230414T120000Z
DTEND:20230414T215000Z
LOCATION:
SUMMARY:Corso di formazione ECM: il diritto alla salute in Africa e in Italia
DESCRIPTION: Corso di formazione ECM: il diritto alla salute in Africa e in Italia
END:VEVENT
END:VCALENDAR