BEGIN:VCALENDAR
VERSION:2.0
PRODID:-//eventon.com NONSGML v1.0//EN
BEGIN:VEVENT
UID:69e9e13643a03
DTSTAMP:20260423T110702
DTSTART:20230329T190000Z
DTEND:20230329T215000Z
LOCATION:
SUMMARY:Trieste Notte
DESCRIPTION: Continua la rassegna di film curata dal gruppo Medici con l'Africa Cuamm Pisa\,  verrà proiettato il film "Trieste è Bella di Notte"
END:VEVENT
END:VCALENDAR