BEGIN:VCALENDAR
VERSION:2.0
PRODID:-//eventon.com NONSGML v1.0//EN
BEGIN:VEVENT
UID:69e99a8f77f07
DTSTAMP:20260423T060535
DTSTART:20221110T183000Z
DTEND:20221110T215000Z
LOCATION:
SUMMARY:Quello che non si vede.
DESCRIPTION: Quello che non si vede.
END:VEVENT
END:VCALENDAR