BEGIN:VCALENDAR
VERSION:2.0
PRODID:-//eventon.com NONSGML v1.0//EN
BEGIN:VEVENT
UID:69e9cf94c9a22
DTSTAMP:20260423T095148
DTSTART:20221030T083000Z
DTEND:20221030T215000Z
LOCATION:
SUMMARY:Testimonianza Cuamm
DESCRIPTION: Testimonianza Cuamm
END:VEVENT
END:VCALENDAR