BEGIN:VCALENDAR
VERSION:2.0
PRODID:-//eventon.com NONSGML v1.0//EN
BEGIN:VEVENT
UID:69e9cfaf20cfc
DTSTAMP:20260423T095215
DTSTART:20221029T180000Z
DTEND:20221029T215000Z
LOCATION:
SUMMARY:Cena solidale a favore di Tosamaganga
DESCRIPTION: Cena solidale a favore di Tosamaganga
END:VEVENT
END:VCALENDAR