BEGIN:VCALENDAR
VERSION:2.0
PRODID:-//eventon.com NONSGML v1.0//EN
BEGIN:VEVENT
UID:69e9e8b2399d9
DTSTAMP:20260423T113858
DTSTART:20221022T072000Z
DTEND:20221022T215000Z
LOCATION:
SUMMARY:Il Treno della Salute Evento conclusivo con Treno a Vapore!
DESCRIPTION: Il Treno della Salute Evento conclusivo con Treno a Vapore!
END:VEVENT
END:VCALENDAR