BEGIN:VCALENDAR
VERSION:2.0
PRODID:-//eventon.com NONSGML v1.0//EN
BEGIN:VEVENT
UID:69ea05ad9dafe
DTSTAMP:20260423T134237
DTSTART:20221108T160000Z
DTEND:20221108T215000Z
LOCATION:
SUMMARY:Apericuamm: Quello che non si vede
DESCRIPTION: Apericuamm: Quello che non si vede
END:VEVENT
END:VCALENDAR