BEGIN:VCALENDAR
VERSION:2.0
PRODID:-//eventon.com NONSGML v1.0//EN
BEGIN:VEVENT
UID:69ea20d180eb7
DTSTAMP:20260423T153825
DTSTART:20221028T184500Z
DTEND:20221028T215000Z
LOCATION:
SUMMARY:Veglia missionaria vicariale con Testimonianza di Medici con l'Africa Cuamm
DESCRIPTION: Vi invitiamo a partecipare alla Veglia Missionaria Vicariale presso la parrocchia di Prozzolo\,  dove potrete ascoltare la testimonianza di Anna Agazzi\,  giovane medico Cuamm rientrata da poco dal Mozambico.
END:VEVENT
END:VCALENDAR