BEGIN:VCALENDAR
VERSION:2.0
PRODID:-//eventon.com NONSGML v1.0//EN
BEGIN:VEVENT
UID:69ea39f58de55
DTSTAMP:20260423T172541
DTSTART:20221028T220000Z
DTEND:20221029T215900Z
LOCATION:
SUMMARY:Cena solidale a favore del lavoro del Cuamm a Tosamaganga
DESCRIPTION: 
END:VEVENT
END:VCALENDAR