BEGIN:VCALENDAR
VERSION:2.0
PRODID:-//eventon.com NONSGML v1.0//EN
BEGIN:VEVENT
UID:69ecad70e4ca1
DTSTAMP:20260425T140256
DTSTART:20221026T190000Z
DTEND:20221026T215000Z
LOCATION:Campus Universitario - Aula 3 Forlì
SUMMARY:Quello che non si vede
DESCRIPTION: Quello che non si vede
END:VEVENT
END:VCALENDAR