BEGIN:VCALENDAR
VERSION:2.0
PRODID:-//eventon.com NONSGML v1.0//EN
BEGIN:VEVENT
UID:69eccaaf72c52
DTSTAMP:20260425T160743
DTSTART:20221027T180000Z
DTEND:20221027T215000Z
LOCATION:Campus Universitario - Aula 3 Forlì
SUMMARY:Quello che non si vede
DESCRIPTION: Quello che non si vede
END:VEVENT
END:VCALENDAR