BEGIN:VCALENDAR
VERSION:2.0
PRODID:-//eventon.com NONSGML v1.0//EN
BEGIN:VEVENT
UID:69ece45777da1
DTSTAMP:20260425T175711
DTSTART:20221030T150000Z
DTEND:20221030T215000Z
LOCATION:
SUMMARY:In viaggio con Beethoven
DESCRIPTION: Concerto per Medici con l'Africa Cuamm
END:VEVENT
END:VCALENDAR