BEGIN:VCALENDAR
VERSION:2.0
PRODID:-//eventon.com NONSGML v1.0//EN
BEGIN:VEVENT
UID:69ed14d9685ef
DTSTAMP:20260425T212409
DTSTART:20221108T180000Z
DTEND:20221108T215000Z
LOCATION:
SUMMARY:Metti in moto la solidarietà
DESCRIPTION: Cena solidale a sostegno del Cuamm e del Centro diurno Il passero.
END:VEVENT
END:VCALENDAR