BEGIN:VCALENDAR
VERSION:2.0
PRODID:-//eventon.com NONSGML v1.0//EN
BEGIN:VEVENT
UID:69ed14d9683c8
DTSTAMP:20260425T212409
DTSTART:20221019T070000Z
DTEND:20221021T164500Z
LOCATION:Stazione ferroviaria 
SUMMARY:Il Treno della Salute - Prevenzione e solidarietà
DESCRIPTION: Il Treno della Salute - Prevenzione e solidarietà
END:VEVENT
END:VCALENDAR