BEGIN:VCALENDAR
VERSION:2.0
PRODID:-//eventon.com NONSGML v1.0//EN
BEGIN:VEVENT
UID:69ed2cea5aeb3
DTSTAMP:20260425T230650
DTSTART:20221021T153000Z
DTEND:20221021T215000Z
LOCATION:Casa Campregher 
SUMMARY:Il destino di Jacopo di Mario Cerato
DESCRIPTION: Il destino di Jacopo di Mario Cerato
END:VEVENT
END:VCALENDAR