BEGIN:VCALENDAR
VERSION:2.0
PRODID:-//eventon.com NONSGML v1.0//EN
BEGIN:VEVENT
UID:69ed42da5d327
DTSTAMP:20260426T004026
DTSTART:20221020T160000Z
DTEND:20221020T215000Z
LOCATION:
SUMMARY:Presentazione del libro "Quello che possiamo imparare in Africa"
DESCRIPTION: Presentazione del libro "Quello che possiamo imparare in Africa"
END:VEVENT
END:VCALENDAR