BEGIN:VCALENDAR
VERSION:2.0
PRODID:-//eventon.com NONSGML v1.0//EN
BEGIN:VEVENT
UID:69ed71abc82e7
DTSTAMP:20260426T040011
DTSTART:20221020T190000Z
DTEND:20221020T215000Z
LOCATION:
SUMMARY:Presentazione del libro "Quello che possiamo imparare in Africa"
DESCRIPTION: Presentazione del libro "Quello che possiamo imparare in Africa"
END:VEVENT
END:VCALENDAR