BEGIN:VCALENDAR
VERSION:2.0
PRODID:-//eventon.com NONSGML v1.0//EN
BEGIN:VEVENT
UID:69ed8938cc0d6
DTSTAMP:20260426T054040
DTSTART:20221020T183000Z
DTEND:20221020T215000Z
LOCATION:Sala della biblioteca di Lavarone 
SUMMARY:Il destino di Jacopo di Mario Cerato -  Presentazione del romanzo storico
DESCRIPTION: Il destino di Jacopo di Mario Cerato -  Presentazione del romanzo storico
END:VEVENT
END:VCALENDAR